Package: scRNAseqApp Version: 1.4.0 Command: E:\biocbuild\bbs-3.19-bioc\R\bin\R.exe CMD INSTALL scRNAseqApp StartedAt: 2024-10-16 16:59:02 -0400 (Wed, 16 Oct 2024) EndedAt: 2024-10-16 17:00:36 -0400 (Wed, 16 Oct 2024) EllapsedTime: 94.2 seconds RetCode: 0 Status: OK