Package: scatterHatch Version: 1.10.0 Command: rm -rf scatterHatch.buildbin-libdir && mkdir scatterHatch.buildbin-libdir && /Users/biocbuild/BBS/utils/build-universal.sh scatterHatch_1.10.0.tar.gz /Library/Frameworks/R.framework/Resources/bin/R scatterHatch.buildbin-libdir StartedAt: 2024-10-15 20:07:16 -0400 (Tue, 15 Oct 2024) EndedAt: 2024-10-15 20:07:27 -0400 (Tue, 15 Oct 2024) EllapsedTime: 11.4 seconds RetCode: 0 Status: OK PackageFile: scatterHatch_1.10.0.tgz PackageFileSize: 4.286 MiB