Package: scatterHatch Version: 1.10.0 Command: /Library/Frameworks/R.framework/Resources/bin/R CMD check --install=check:scatterHatch.install-out.txt --library=/Library/Frameworks/R.framework/Resources/library --no-vignettes --timings scatterHatch_1.10.0.tar.gz StartedAt: 2024-10-18 10:59:37 -0400 (Fri, 18 Oct 2024) EndedAt: 2024-10-18 11:01:36 -0400 (Fri, 18 Oct 2024) EllapsedTime: 119.7 seconds RetCode: 0 Status: OK CheckDir: scatterHatch.Rcheck Warnings: 0