Package: scatterHatch Version: 1.10.0 Command: /Library/Frameworks/R.framework/Resources/bin/R CMD check --install=check:scatterHatch.install-out.txt --library=/Library/Frameworks/R.framework/Resources/library --no-vignettes --timings scatterHatch_1.10.0.tar.gz StartedAt: 2024-06-09 22:50:08 -0400 (Sun, 09 Jun 2024) EndedAt: 2024-06-09 22:51:48 -0400 (Sun, 09 Jun 2024) EllapsedTime: 100.5 seconds RetCode: 0 Status: OK CheckDir: scatterHatch.Rcheck Warnings: 0