Package: sccomp Version: 1.8.0 Command: /Library/Frameworks/R.framework/Resources/bin/R CMD build --keep-empty-dirs --no-resave-data sccomp StartedAt: 2024-10-17 08:26:10 -0400 (Thu, 17 Oct 2024) EndedAt: 2024-10-17 08:33:24 -0400 (Thu, 17 Oct 2024) EllapsedTime: 433.3 seconds RetCode: 0 Status: OK PackageFile: sccomp_1.8.0.tar.gz PackageFileSize: 2.528 MiB