Package: sccomp Version: 1.8.0 Command: /home/biocbuild/R/R-beta-2024-04-15_r86425/bin/R CMD build --keep-empty-dirs --no-resave-data sccomp StartedAt: 2024-05-09 03:19:33 -0000 (Thu, 09 May 2024) EndedAt: 2024-05-09 03:32:19 -0000 (Thu, 09 May 2024) EllapsedTime: 766.0 seconds RetCode: 0 Status: OK PackageFile: sccomp_1.8.0.tar.gz PackageFileSize: 2.311 MiB