Package: sccomp Version: 1.8.0 Command: /Library/Frameworks/R.framework/Resources/bin/R CMD build --keep-empty-dirs --no-resave-data sccomp StartedAt: 2024-10-16 22:56:52 -0400 (Wed, 16 Oct 2024) EndedAt: 2024-10-16 23:14:02 -0400 (Wed, 16 Oct 2024) EllapsedTime: 1030.0 seconds RetCode: 0 Status: OK PackageFile: sccomp_1.8.0.tar.gz PackageFileSize: 2.525 MiB