Package: sccomp Version: 1.8.0 Command: /Library/Frameworks/R.framework/Resources/bin/R CMD check --install=check:sccomp.install-out.txt --library=/Library/Frameworks/R.framework/Resources/library --no-vignettes --timings sccomp_1.8.0.tar.gz StartedAt: 2024-10-17 12:32:47 -0400 (Thu, 17 Oct 2024) EndedAt: 2024-10-17 13:00:01 -0400 (Thu, 17 Oct 2024) EllapsedTime: 1634.3 seconds RetCode: 0 Status: OK CheckDir: sccomp.Rcheck Warnings: 0