Package: sccomp Version: 1.8.0 Command: /home/biocbuild/bbs-3.19-bioc/R/bin/R CMD build --keep-empty-dirs --no-resave-data sccomp StartedAt: 2024-10-16 20:39:02 -0400 (Wed, 16 Oct 2024) EndedAt: 2024-10-16 20:47:16 -0400 (Wed, 16 Oct 2024) EllapsedTime: 493.8 seconds RetCode: 0 Status: OK PackageFile: sccomp_1.8.0.tar.gz PackageFileSize: 2.391 MiB