Package: sccomp Version: 1.8.0 Command: rm -rf sccomp.buildbin-libdir && mkdir sccomp.buildbin-libdir && F:\biocbuild\bbs-3.19-bioc\R\bin\R.exe CMD INSTALL --build --library=sccomp.buildbin-libdir sccomp_1.8.0.tar.gz StartedAt: 2024-06-27 08:52:06 -0400 (Thu, 27 Jun 2024) EndedAt: 2024-06-27 08:59:58 -0400 (Thu, 27 Jun 2024) EllapsedTime: 472.5 seconds RetCode: 0 Status: OK PackageFile: sccomp_1.8.0.zip PackageFileSize: 4.101 MiB