Package: sccomp Version: 1.8.0 Command: F:\biocbuild\bbs-3.19-bioc\R\bin\R.exe CMD check --no-multiarch --install=check:sccomp.install-out.txt --library=F:\biocbuild\bbs-3.19-bioc\R\library --no-vignettes --timings sccomp_1.8.0.tar.gz StartedAt: 2024-06-27 05:49:11 -0400 (Thu, 27 Jun 2024) EndedAt: 2024-06-27 06:10:04 -0400 (Thu, 27 Jun 2024) EllapsedTime: 1253.0 seconds RetCode: 0 Status: OK CheckDir: sccomp.Rcheck Warnings: 0