Package: sccomp Version: 1.8.0 Command: rm -rf sccomp.buildbin-libdir && mkdir sccomp.buildbin-libdir && E:\biocbuild\bbs-3.19-bioc\R\bin\R.exe CMD INSTALL --build --library=sccomp.buildbin-libdir sccomp_1.8.0.tar.gz StartedAt: 2024-10-17 08:34:45 -0400 (Thu, 17 Oct 2024) EndedAt: 2024-10-17 08:42:57 -0400 (Thu, 17 Oct 2024) EllapsedTime: 492.2 seconds RetCode: 0 Status: OK PackageFile: sccomp_1.8.0.zip PackageFileSize: 4.096 MiB