Package: sccomp Version: 1.8.0 Command: E:\biocbuild\bbs-3.19-bioc\R\bin\R.exe CMD check --no-multiarch --install=check:sccomp.install-out.txt --library=E:\biocbuild\bbs-3.19-bioc\R\library --no-vignettes --timings sccomp_1.8.0.tar.gz StartedAt: 2024-10-17 05:25:27 -0400 (Thu, 17 Oct 2024) EndedAt: 2024-10-17 05:45:06 -0400 (Thu, 17 Oct 2024) EllapsedTime: 1178.9 seconds RetCode: 0 Status: OK CheckDir: sccomp.Rcheck Warnings: 0