Package: sccomp Version: 1.8.0 Command: E:\biocbuild\bbs-3.19-bioc\R\bin\R.exe CMD INSTALL sccomp StartedAt: 2024-10-16 16:37:25 -0400 (Wed, 16 Oct 2024) EndedAt: 2024-10-16 16:43:08 -0400 (Wed, 16 Oct 2024) EllapsedTime: 343.0 seconds RetCode: 0 Status: OK