Package: schex Version: 1.18.0 Command: /Library/Frameworks/R.framework/Resources/bin/R CMD INSTALL schex StartedAt: 2024-06-09 15:29:25 -0400 (Sun, 09 Jun 2024) EndedAt: 2024-06-09 15:30:02 -0400 (Sun, 09 Jun 2024) EllapsedTime: 37.0 seconds RetCode: 0 Status: OK