Package: schex Version: 1.18.0 Command: /home/biocbuild/R/R-beta-2024-04-15_r86425/bin/R CMD INSTALL schex StartedAt: 2024-05-08 20:16:17 -0000 (Wed, 08 May 2024) EndedAt: 2024-05-08 20:16:53 -0000 (Wed, 08 May 2024) EllapsedTime: 36.3 seconds RetCode: 0 Status: OK