Package: schex Version: 1.18.0 Command: rm -rf schex.buildbin-libdir && mkdir schex.buildbin-libdir && /Users/biocbuild/BBS/utils/build-universal.sh schex_1.18.0.tar.gz /Library/Frameworks/R.framework/Resources/bin/R schex.buildbin-libdir StartedAt: 2024-06-10 00:38:24 -0400 (Mon, 10 Jun 2024) EndedAt: 2024-06-10 00:39:01 -0400 (Mon, 10 Jun 2024) EllapsedTime: 36.9 seconds RetCode: 0 Status: OK PackageFile: schex_1.18.0.tgz PackageFileSize: 2.396 MiB