Package: schex Version: 1.18.0 Command: /Library/Frameworks/R.framework/Resources/bin/R CMD build --keep-empty-dirs --no-resave-data schex StartedAt: 2024-06-09 18:04:05 -0400 (Sun, 09 Jun 2024) EndedAt: 2024-06-09 18:06:10 -0400 (Sun, 09 Jun 2024) EllapsedTime: 125.9 seconds RetCode: 0 Status: OK PackageFile: schex_1.18.0.tar.gz PackageFileSize: 3.69 MiB