Package: schex Version: 1.18.0 Command: /Library/Frameworks/R.framework/Resources/bin/R CMD check --install=check:schex.install-out.txt --library=/Library/Frameworks/R.framework/Resources/library --no-vignettes --timings schex_1.18.0.tar.gz StartedAt: 2024-10-17 12:39:51 -0400 (Thu, 17 Oct 2024) EndedAt: 2024-10-17 12:54:12 -0400 (Thu, 17 Oct 2024) EllapsedTime: 861.9 seconds RetCode: 0 Status: OK CheckDir: schex.Rcheck Warnings: 0