Package: schex Version: 1.18.0 Command: rm -rf schex.buildbin-libdir && mkdir schex.buildbin-libdir && F:\biocbuild\bbs-3.19-bioc\R\bin\R.exe CMD INSTALL --build --library=schex.buildbin-libdir schex_1.18.0.tar.gz StartedAt: 2024-06-27 08:52:46 -0400 (Thu, 27 Jun 2024) EndedAt: 2024-06-27 08:53:21 -0400 (Thu, 27 Jun 2024) EllapsedTime: 34.8 seconds RetCode: 0 Status: OK PackageFile: schex_1.18.0.zip PackageFileSize: 1.604 MiB