Package: schex Version: 1.18.0 Command: chmod a+r schex -R && F:\biocbuild\bbs-3.19-bioc\R\bin\R.exe CMD build --keep-empty-dirs --no-resave-data schex StartedAt: 2024-06-26 21:44:43 -0400 (Wed, 26 Jun 2024) EndedAt: 2024-06-26 21:47:19 -0400 (Wed, 26 Jun 2024) EllapsedTime: 156.4 seconds RetCode: 0 Status: OK PackageFile: schex_1.18.0.tar.gz PackageFileSize: 2.893 MiB