Package: schex Version: 1.18.0 Command: rm -rf schex.buildbin-libdir && mkdir schex.buildbin-libdir && E:\biocbuild\bbs-3.19-bioc\R\bin\R.exe CMD INSTALL --build --library=schex.buildbin-libdir schex_1.18.0.tar.gz StartedAt: 2024-10-17 08:35:23 -0400 (Thu, 17 Oct 2024) EndedAt: 2024-10-17 08:35:57 -0400 (Thu, 17 Oct 2024) EllapsedTime: 33.5 seconds RetCode: 0 Status: OK PackageFile: schex_1.18.0.zip PackageFileSize: 1.604 MiB