Package: scifer Version: 1.6.0 Command: rm -rf scifer.buildbin-libdir && mkdir scifer.buildbin-libdir && /Users/biocbuild/BBS/utils/build-universal.sh scifer_1.6.0.tar.gz /Library/Frameworks/R.framework/Resources/bin/R scifer.buildbin-libdir StartedAt: 2024-06-11 13:05:59 -0400 (Tue, 11 Jun 2024) EndedAt: 2024-06-11 13:06:34 -0400 (Tue, 11 Jun 2024) EllapsedTime: 34.8 seconds RetCode: 0 Status: OK PackageFile: scifer_1.6.0.tgz PackageFileSize: 2.27 MiB