Package: scifer Version: 1.6.0 Command: /home/biocbuild/R/R-beta-2024-04-15_r86425/bin/R CMD INSTALL scifer StartedAt: 2024-05-08 20:38:38 -0000 (Wed, 08 May 2024) EndedAt: 2024-05-08 20:39:00 -0000 (Wed, 08 May 2024) EllapsedTime: 21.1 seconds RetCode: 0 Status: OK