Package: scifer Version: 1.6.0 Command: /Library/Frameworks/R.framework/Resources/bin/R CMD build --keep-empty-dirs --no-resave-data scifer StartedAt: 2024-06-09 18:04:35 -0400 (Sun, 09 Jun 2024) EndedAt: 2024-06-09 18:06:43 -0400 (Sun, 09 Jun 2024) EllapsedTime: 127.9 seconds RetCode: 0 Status: OK PackageFile: scifer_1.6.0.tar.gz PackageFileSize: 2.242 MiB