Package: scifer Version: 1.6.0 Command: /Library/Frameworks/R.framework/Resources/bin/R CMD check --install=check:scifer.install-out.txt --library=/Library/Frameworks/R.framework/Resources/library --no-vignettes --timings scifer_1.6.0.tar.gz StartedAt: 2024-10-17 12:41:19 -0400 (Thu, 17 Oct 2024) EndedAt: 2024-10-17 13:00:43 -0400 (Thu, 17 Oct 2024) EllapsedTime: 1164.2 seconds RetCode: 0 Status: OK CheckDir: scifer.Rcheck Warnings: 0