Package: scifer Version: 1.6.0 Command: rm -rf scifer.buildbin-libdir && mkdir scifer.buildbin-libdir && E:\biocbuild\bbs-3.19-bioc\R\bin\R.exe CMD INSTALL --build --library=scifer.buildbin-libdir scifer_1.6.0.tar.gz StartedAt: 2024-10-17 08:35:33 -0400 (Thu, 17 Oct 2024) EndedAt: 2024-10-17 08:35:55 -0400 (Thu, 17 Oct 2024) EllapsedTime: 22.5 seconds RetCode: 0 Status: OK PackageFile: scifer_1.6.0.zip PackageFileSize: 2.104 MiB