Package: scmeth Version: 1.24.0 Command: /Library/Frameworks/R.framework/Resources/bin/R CMD build --keep-empty-dirs --no-resave-data scmeth StartedAt: 2024-10-16 23:01:55 -0400 (Wed, 16 Oct 2024) EndedAt: 2024-10-16 23:06:21 -0400 (Wed, 16 Oct 2024) EllapsedTime: 265.7 seconds RetCode: 0 Status: OK PackageFile: scmeth_1.24.0.tar.gz PackageFileSize: 776.6 KiB