Package: scmeth Version: 1.24.0 Command: rm -rf scmeth.buildbin-libdir && mkdir scmeth.buildbin-libdir && E:\biocbuild\bbs-3.19-bioc\R\bin\R.exe CMD INSTALL --build --library=scmeth.buildbin-libdir scmeth_1.24.0.tar.gz StartedAt: 2024-10-17 08:35:41 -0400 (Thu, 17 Oct 2024) EndedAt: 2024-10-17 08:37:02 -0400 (Thu, 17 Oct 2024) EllapsedTime: 81.7 seconds RetCode: 0 Status: OK PackageFile: scmeth_1.24.0.zip PackageFileSize: 781.5 KiB