Package: scran Version: 1.32.0 Command: /Library/Frameworks/R.framework/Resources/bin/R CMD check --install=check:scran.install-out.txt --library=/Library/Frameworks/R.framework/Resources/library --no-vignettes --timings scran_1.32.0.tar.gz StartedAt: 2024-10-18 11:37:11 -0400 (Fri, 18 Oct 2024) EndedAt: 2024-10-18 11:52:12 -0400 (Fri, 18 Oct 2024) EllapsedTime: 901.7 seconds RetCode: 0 Status: WARNINGS CheckDir: scran.Rcheck Warnings: 1