Package: scran Version: 1.32.0 Command: /Library/Frameworks/R.framework/Resources/bin/R CMD check --install=check:scran.install-out.txt --library=/Library/Frameworks/R.framework/Resources/library --no-vignettes --timings scran_1.32.0.tar.gz StartedAt: 2024-06-11 04:52:15 -0400 (Tue, 11 Jun 2024) EndedAt: 2024-06-11 05:12:07 -0400 (Tue, 11 Jun 2024) EllapsedTime: 1192.1 seconds RetCode: 0 Status: WARNINGS CheckDir: scran.Rcheck Warnings: 1