Package: scran Version: 1.32.0 Command: /home/biocbuild/R/R-beta-2024-04-15_r86425/bin/R CMD build --keep-empty-dirs --no-resave-data scran StartedAt: 2024-05-09 03:26:26 -0000 (Thu, 09 May 2024) EndedAt: 2024-05-09 03:32:31 -0000 (Thu, 09 May 2024) EllapsedTime: 365.5 seconds RetCode: 0 Status: OK PackageFile: scran_1.32.0.tar.gz PackageFileSize: 1.243 MiB