Package: scran Version: 1.32.0 Command: /Library/Frameworks/R.framework/Resources/bin/R CMD check --install=check:scran.install-out.txt --library=/Library/Frameworks/R.framework/Resources/library --no-vignettes --timings scran_1.32.0.tar.gz StartedAt: 2024-10-17 12:47:44 -0400 (Thu, 17 Oct 2024) EndedAt: 2024-10-17 13:18:39 -0400 (Thu, 17 Oct 2024) EllapsedTime: 1854.5 seconds RetCode: 0 Status: WARNINGS CheckDir: scran.Rcheck Warnings: 1