Package: scran Version: 1.32.0 Command: /home/biocbuild/bbs-3.19-bioc/R/bin/R CMD check --install=check:scran.install-out.txt --library=/home/biocbuild/bbs-3.19-bioc/R/site-library --timings scran_1.32.0.tar.gz StartedAt: 2024-10-17 04:55:11 -0400 (Thu, 17 Oct 2024) EndedAt: 2024-10-17 05:08:59 -0400 (Thu, 17 Oct 2024) EllapsedTime: 828.8 seconds RetCode: 1 Status: ERROR CheckDir: scran.Rcheck Warnings: NA