Package: scran Version: 1.32.0 Command: E:\biocbuild\bbs-3.19-bioc\R\bin\R.exe CMD check --no-multiarch --install=check:scran.install-out.txt --library=E:\biocbuild\bbs-3.19-bioc\R\library --no-vignettes --timings scran_1.32.0.tar.gz StartedAt: 2024-10-17 05:33:27 -0400 (Thu, 17 Oct 2024) EndedAt: 2024-10-17 05:48:23 -0400 (Thu, 17 Oct 2024) EllapsedTime: 896.1 seconds RetCode: 0 Status: WARNINGS CheckDir: scran.Rcheck Warnings: 1