Package: scran Version: 1.32.0 Command: E:\biocbuild\bbs-3.19-bioc\R\bin\R.exe CMD INSTALL scran StartedAt: 2024-10-16 17:11:13 -0400 (Wed, 16 Oct 2024) EndedAt: 2024-10-16 17:12:55 -0400 (Wed, 16 Oct 2024) EllapsedTime: 101.8 seconds RetCode: 0 Status: OK