Package: scviR Version: 1.4.0 Command: /Library/Frameworks/R.framework/Resources/bin/R CMD build --keep-empty-dirs --no-resave-data scviR StartedAt: 2024-10-16 23:11:52 -0400 (Wed, 16 Oct 2024) EndedAt: 2024-10-16 23:16:53 -0400 (Wed, 16 Oct 2024) EllapsedTime: 301.2 seconds RetCode: 1 Status: ERROR PackageFile: None PackageFileSize: NA