Package: scviR Version: 1.4.0 Command: /home/biocbuild/bbs-3.19-bioc/R/bin/R CMD check --install=check:scviR.install-out.txt --library=/home/biocbuild/bbs-3.19-bioc/R/site-library --timings scviR_1.4.0.tar.gz StartedAt: 2024-10-17 04:59:44 -0400 (Thu, 17 Oct 2024) EndedAt: 2024-10-17 05:06:05 -0400 (Thu, 17 Oct 2024) EllapsedTime: 380.8 seconds RetCode: 0 Status: OK CheckDir: scviR.Rcheck Warnings: 0