Package: sechm Version: 1.12.0 Command: rm -rf sechm.buildbin-libdir && mkdir sechm.buildbin-libdir && /Users/biocbuild/BBS/utils/build-universal.sh sechm_1.12.0.tar.gz /Library/Frameworks/R.framework/Resources/bin/R sechm.buildbin-libdir StartedAt: 2024-06-11 13:11:24 -0400 (Tue, 11 Jun 2024) EndedAt: 2024-06-11 13:12:13 -0400 (Tue, 11 Jun 2024) EllapsedTime: 48.8 seconds RetCode: 0 Status: OK PackageFile: sechm_1.12.0.tgz PackageFileSize: 1.14 MiB