Package: sechm Version: 1.12.0 Command: /Library/Frameworks/R.framework/Resources/bin/R CMD build --keep-empty-dirs --no-resave-data sechm StartedAt: 2024-06-10 04:35:16 -0400 (Mon, 10 Jun 2024) EndedAt: 2024-06-10 04:36:59 -0400 (Mon, 10 Jun 2024) EllapsedTime: 102.6 seconds RetCode: 0 Status: OK PackageFile: sechm_1.12.0.tar.gz PackageFileSize: 1.068 MiB