Package: sechm Version: 1.12.0 Command: /Library/Frameworks/R.framework/Resources/bin/R CMD check --install=check:sechm.install-out.txt --library=/Library/Frameworks/R.framework/Resources/library --no-vignettes --timings sechm_1.12.0.tar.gz StartedAt: 2024-06-11 05:11:11 -0400 (Tue, 11 Jun 2024) EndedAt: 2024-06-11 05:15:46 -0400 (Tue, 11 Jun 2024) EllapsedTime: 275.3 seconds RetCode: 0 Status: OK CheckDir: sechm.Rcheck Warnings: 0