Package: sechm Version: 1.12.0 Command: /home/biocbuild/R/R-beta-2024-04-15_r86425/bin/R CMD check --install=check:sechm.install-out.txt --library=/home/biocbuild/R/R-beta-2024-04-15_r86425/site-library --no-vignettes --timings sechm_1.12.0.tar.gz StartedAt: 2024-05-09 11:49:28 -0000 (Thu, 09 May 2024) EndedAt: 2024-05-09 11:53:02 -0000 (Thu, 09 May 2024) EllapsedTime: 213.4 seconds RetCode: 0 Status: OK CheckDir: sechm.Rcheck Warnings: 0