Package: sechm Version: 1.12.0 Command: rm -rf sechm.buildbin-libdir && mkdir sechm.buildbin-libdir && /Users/biocbuild/BBS/utils/build-universal.sh sechm_1.12.0.tar.gz /Library/Frameworks/R.framework/Resources/bin/R sechm.buildbin-libdir StartedAt: 2024-06-10 00:39:10 -0400 (Mon, 10 Jun 2024) EndedAt: 2024-06-10 00:39:44 -0400 (Mon, 10 Jun 2024) EllapsedTime: 34.1 seconds RetCode: 0 Status: OK PackageFile: sechm_1.12.0.tgz PackageFileSize: 1.14 MiB