Package: sechm Version: 1.12.0 Command: chmod a+r sechm -R && E:\biocbuild\bbs-3.19-bioc\R\bin\R.exe CMD build --keep-empty-dirs --no-resave-data sechm StartedAt: 2024-10-16 21:52:56 -0400 (Wed, 16 Oct 2024) EndedAt: 2024-10-16 21:54:21 -0400 (Wed, 16 Oct 2024) EllapsedTime: 85.2 seconds RetCode: 0 Status: OK PackageFile: sechm_1.12.0.tar.gz PackageFileSize: 574.2 KiB