Package: segmenter Version: 1.10.0 Maintainer: Mahmoud Ahmed MaintainerEmail: mahmoud.s.fahmy at students.kasralainy.edu.eg git_url: https://git.bioconductor.org/packages/segmenter git_branch: RELEASE_3_19 git_last_commit: 5d706a7 git_last_commit_date: 2024-04-30 11:35:33 -0400 (Tue, 30 Apr 2024)