Package: segmenter Version: 1.10.0 Command: /Library/Frameworks/R.framework/Resources/bin/R CMD INSTALL segmenter StartedAt: 2024-10-16 16:20:06 -0400 (Wed, 16 Oct 2024) EndedAt: 2024-10-16 16:21:45 -0400 (Wed, 16 Oct 2024) EllapsedTime: 99.1 seconds RetCode: 0 Status: OK