Package: segmenter Version: 1.10.0 Command: /home/biocbuild/bbs-3.19-bioc/R/bin/R CMD build --keep-empty-dirs --no-resave-data segmenter StartedAt: 2024-10-16 20:47:16 -0400 (Wed, 16 Oct 2024) EndedAt: 2024-10-16 20:54:33 -0400 (Wed, 16 Oct 2024) EllapsedTime: 436.9 seconds RetCode: 0 Status: OK PackageFile: segmenter_1.10.0.tar.gz PackageFileSize: 3.928 MiB