Package: segmenter Version: 1.10.0 Command: chmod a+r segmenter -R && E:\biocbuild\bbs-3.19-bioc\R\bin\R.exe CMD build --keep-empty-dirs --no-resave-data segmenter StartedAt: 2024-10-16 21:53:13 -0400 (Wed, 16 Oct 2024) EndedAt: 2024-10-16 22:02:29 -0400 (Wed, 16 Oct 2024) EllapsedTime: 556.0 seconds RetCode: 0 Status: OK PackageFile: segmenter_1.10.0.tar.gz PackageFileSize: 3.888 MiB