Package: selectKSigs Version: 1.16.0 Command: /Library/Frameworks/R.framework/Resources/bin/R CMD INSTALL selectKSigs StartedAt: 2024-06-09 15:26:08 -0400 (Sun, 09 Jun 2024) EndedAt: 2024-06-09 15:26:28 -0400 (Sun, 09 Jun 2024) EllapsedTime: 19.5 seconds RetCode: 0 Status: OK