Package: selectKSigs Version: 1.16.0 Command: /Library/Frameworks/R.framework/Resources/bin/R CMD build --keep-empty-dirs --no-resave-data selectKSigs StartedAt: 2024-10-16 23:13:18 -0400 (Wed, 16 Oct 2024) EndedAt: 2024-10-16 23:18:13 -0400 (Wed, 16 Oct 2024) EllapsedTime: 294.5 seconds RetCode: 0 Status: OK PackageFile: selectKSigs_1.16.0.tar.gz PackageFileSize: 399.7 KiB